BEGIN:VCALENDAR
VERSION:2.0
PRODID:-//eventon.com NONSGML v1.0//EN
CALSCALE:GREGORIAN
METHOD:PUBLISH
BEGIN:VEVENT
UID:69ea2ed2cc7c4
DTSTAMP:20260423T143810Z
DTSTART:20211102T130000Z
DTEND:20211102T160000Z
LOCATION:FEG Salem Sonnhaldeweg 2\,  Münsingen
SUMMARY:Everyday-German-Lesson: «What time is it?»
DESCRIPTION:Please take note of our COVID19-Protection Concept\nhttps://www
 .colibritreff.ch/events/everyday-german-lesson-what-time-is-it/
URL:https://www.colibritreff.ch/events/everyday-german-lesson-what-time-is-it/
END:VEVENT
END:VCALENDAR