BEGIN:VCALENDAR
VERSION:2.0
PRODID:-//eventon.com NONSGML v1.0//EN
CALSCALE:GREGORIAN
METHOD:PUBLISH
BEGIN:VEVENT
UID:69e4e8f80c6e0
DTSTAMP:20260419T143848Z
DTSTART:20251202T130000Z
DTEND:20251202T150000Z
LOCATION:FEG Salem Sonnhaldeweg 2\,  Münsingen
SUMMARY:Mutter-Kind-Angebot
DESCRIPTION:\nhttps://www.colibritreff.ch/events/mutter-kind-angebot-12/
URL:https://www.colibritreff.ch/events/mutter-kind-angebot-12/
END:VEVENT
END:VCALENDAR