BEGIN:VCALENDAR
VERSION:2.0
PRODID:-//eventon.com NONSGML v1.0//EN
CALSCALE:GREGORIAN
METHOD:PUBLISH
BEGIN:VEVENT
UID:69e4cf5fa4409
DTSTAMP:20260419T124935Z
DTSTART:20251209T130000Z
DTEND:20251209T150000Z
LOCATION:FEG Salem Sonnhaldeweg 2\,  Münsingen
SUMMARY:Alltags Deutschkurs zum Thema «Winter»
DESCRIPTION:\nhttps://www.colibritreff.ch/events/alltags-deutschkurs-zum-th
 ema-winter-2/
URL:https://www.colibritreff.ch/events/alltags-deutschkurs-zum-thema-winter-2/
END:VEVENT
END:VCALENDAR