BEGIN:VCALENDAR
VERSION:2.0
PRODID:-//eventon.com NONSGML v1.0//EN
CALSCALE:GREGORIAN
METHOD:PUBLISH
BEGIN:VEVENT
UID:69e4cf5f9fb7d
DTSTAMP:20260419T124935Z
DTSTART:20251216T130000Z
DTEND:20251216T150000Z
LOCATION:FEG Salem Sonnhaldeweg 2\,  Münsingen
SUMMARY:Traditionelles Ende-des-Jahres-Bingo
DESCRIPTION:\nhttps://www.colibritreff.ch/events/traditionelles-ende-des-ja
 hres-bingo/
URL:https://www.colibritreff.ch/events/traditionelles-ende-des-jahres-bingo/
END:VEVENT
END:VCALENDAR