BEGIN:VCALENDAR
VERSION:2.0
PRODID:-//eventon.com NONSGML v1.0//EN
CALSCALE:GREGORIAN
METHOD:PUBLISH
BEGIN:VEVENT
UID:69e4e93b73339
DTSTAMP:20260419T143955Z
DTSTART:20260106T130000Z
DTEND:20260106T160000Z
LOCATION:FEG Salem Sonnhaldeweg 2\,  Münsingen
SUMMARY:Alltags Deutschkurs zum Thema «Redewendungen»
DESCRIPTION:\nhttps://www.colibritreff.ch/events/alltags-deutschkurs-zum-th
 ema-redewendungen/
URL:https://www.colibritreff.ch/events/alltags-deutschkurs-zum-thema-redewendungen/
END:VEVENT
END:VCALENDAR