BEGIN:VCALENDAR
VERSION:2.0
PRODID:-//eventon.com NONSGML v1.0//EN
CALSCALE:GREGORIAN
METHOD:PUBLISH
BEGIN:VEVENT
UID:69e4e8d90b785
DTSTAMP:20260419T143817Z
DTSTART:20260113T130000Z
DTEND:20260113T160000Z
LOCATION:FEG Salem Sonnhaldeweg 2\,  Münsingen
SUMMARY:Alltags Deutschkurs zum Thema «Gross- und Kleinschreibung»
DESCRIPTION:\nhttps://www.colibritreff.ch/events/alltags-deutschkurs-zum-th
 ema-gross-und-kleinschreibung/
URL:https://www.colibritreff.ch/events/alltags-deutschkurs-zum-thema-gross-und-kleinschreibung/
END:VEVENT
END:VCALENDAR