BEGIN:VCALENDAR
VERSION:2.0
PRODID:-//eventon.com NONSGML v1.0//EN
CALSCALE:GREGORIAN
METHOD:PUBLISH
BEGIN:VEVENT
UID:69e4e9053464e
DTSTAMP:20260419T143901Z
DTSTART:20260120T130000Z
DTEND:20260120T150000Z
LOCATION:FEG Salem Sonnhaldeweg 2\,  Münsingen
SUMMARY:Alltags Deutschkurs zum Thema «Lesen/Hörverstehen»
DESCRIPTION:\nhttps://www.colibritreff.ch/events/alltags-deutschkurs-zum-th
 ema-lesen-horverstehen-2/
URL:https://www.colibritreff.ch/events/alltags-deutschkurs-zum-thema-lesen-horverstehen-2/
END:VEVENT
END:VCALENDAR