BEGIN:VCALENDAR
VERSION:2.0
PRODID:-//eventon.com NONSGML v1.0//EN
CALSCALE:GREGORIAN
METHOD:PUBLISH
BEGIN:VEVENT
UID:69e4d00e2b5e1
DTSTAMP:20260419T125230Z
DTSTART:20260203T130000Z
DTEND:20260203T150000Z
LOCATION:FEG Salem Sonnhaldeweg 2\,  Münsingen
SUMMARY:Alltags Deutschkurs zum Thema «Artikel»
DESCRIPTION:\nhttps://www.colibritreff.ch/events/alltags-deutschkurs-zum-th
 ema-artikel/
URL:https://www.colibritreff.ch/events/alltags-deutschkurs-zum-thema-artikel/
END:VEVENT
END:VCALENDAR