BEGIN:VCALENDAR
VERSION:2.0
PRODID:-//eventon.com NONSGML v1.0//EN
CALSCALE:GREGORIAN
METHOD:PUBLISH
BEGIN:VEVENT
UID:69e4e8f806fcb
DTSTAMP:20260419T143848Z
DTSTART:20260210T130000Z
DTEND:20260210T150000Z
LOCATION:FEG Salem Sonnhaldeweg 2\,  Münsingen
SUMMARY:Alltags Deutschkurs zum Thema «Ausflugs-Ideen»
DESCRIPTION:\nhttps://www.colibritreff.ch/events/alltags-deutschkurs-zum-th
 ema-ausflugs-ideen/
URL:https://www.colibritreff.ch/events/alltags-deutschkurs-zum-thema-ausflugs-ideen/
END:VEVENT
END:VCALENDAR