BEGIN:VCALENDAR
VERSION:2.0
PRODID:-//eventon.com NONSGML v1.0//EN
CALSCALE:GREGORIAN
METHOD:PUBLISH
BEGIN:VEVENT
UID:69e4e97ec95bd
DTSTAMP:20260419T144102Z
DTSTART:20260119T081500Z
DTEND:20260119T084500Z
LOCATION:Bistro Belpberg Belpbergstrasse 2
SUMMARY:Eltern-Kaffee im Bistro Belpberg\,  Münsingen
DESCRIPTION:Organisiert durch den Elternrat. 9.15 bis 9.45Uhr\nhttps://www.
 colibritreff.ch/events/eltern-kaffee-im-bistro-belpberg-munsingen-4/
URL:https://www.colibritreff.ch/events/eltern-kaffee-im-bistro-belpberg-munsingen-4/
END:VEVENT
END:VCALENDAR