BEGIN:VCALENDAR
VERSION:2.0
PRODID:-//eventon.com NONSGML v1.0//EN
CALSCALE:GREGORIAN
METHOD:PUBLISH
BEGIN:VEVENT
UID:69e4e94acb585
DTSTAMP:20260419T144010Z
DTSTART:20260127T130000Z
DTEND:20260127T150000Z
LOCATION:FEG Salem Sonnhaldeweg 2\,  Münsingen
SUMMARY:Gast-Gespräch über die weibliche Gesundheit
DESCRIPTION:\nhttps://www.colibritreff.ch/events/gast-gesprach-uber-die-wei
 bliche-gesundheit/
URL:https://www.colibritreff.ch/events/gast-gesprach-uber-die-weibliche-gesundheit/
END:VEVENT
END:VCALENDAR