BEGIN:VCALENDAR
VERSION:2.0
PRODID:-//eventon.com NONSGML v1.0//EN
CALSCALE:GREGORIAN
METHOD:PUBLISH
BEGIN:VEVENT
UID:69e4cff83b344
DTSTAMP:20260419T125208Z
DTSTART:20260217T140000Z
DTEND:20260217T160000Z
LOCATION:FEG Salem Sonnhaldeweg 2\,  Münsingen
SUMMARY:Workshop zum Thema «Selbstfürsorge mit Massage»
DESCRIPTION:\nhttps://www.colibritreff.ch/events/workshop-zum-thema-selbstf
 ursorge-mit-massage/
URL:https://www.colibritreff.ch/events/workshop-zum-thema-selbstfursorge-mit-massage/
END:VEVENT
END:VCALENDAR