BEGIN:VCALENDAR
VERSION:2.0
PRODID:-//eventon.com NONSGML v1.0//EN
CALSCALE:GREGORIAN
METHOD:PUBLISH
BEGIN:VEVENT
UID:69e4e5319cd28
DTSTAMP:20260419T142241Z
DTSTART:20260303T130000Z
DTEND:20260303T150000Z
LOCATION:FEG Salem Sonnhaldeweg 2\,  Münsingen
SUMMARY:Alltags Deutschkurs zum Thema «Mutter-Kind-Angebot»
DESCRIPTION:\nhttps://www.colibritreff.ch/events/alltags-deutschkurs-zum-th
 ema-mutter-kind-angebot/
URL:https://www.colibritreff.ch/events/alltags-deutschkurs-zum-thema-mutter-kind-angebot/
END:VEVENT
END:VCALENDAR