BEGIN:VCALENDAR
VERSION:2.0
PRODID:-//eventon.com NONSGML v1.0//EN
CALSCALE:GREGORIAN
METHOD:PUBLISH
BEGIN:VEVENT
UID:69e4e7c20bd4e
DTSTAMP:20260419T143338Z
DTSTART:20260310T130000Z
DTEND:20260310T150000Z
LOCATION:FEG Salem Sonnhaldeweg 2\,  Münsingen
SUMMARY:Alltags Deutschkurs zum Thema «Zwielaute – ch\,  pf\,  ei\,  au»
DESCRIPTION:\nhttps://www.colibritreff.ch/events/alltags-deutschkurs-zum-th
 ema-zwielaute-ch-pf-ei-au/
URL:https://www.colibritreff.ch/events/alltags-deutschkurs-zum-thema-zwielaute-ch-pf-ei-au/
END:VEVENT
END:VCALENDAR