BEGIN:VCALENDAR
VERSION:2.0
PRODID:-//eventon.com NONSGML v1.0//EN
CALSCALE:GREGORIAN
METHOD:PUBLISH
BEGIN:VEVENT
UID:69e4e512353eb
DTSTAMP:20260419T142210Z
DTSTART:20260324T130000Z
DTEND:20260324T150000Z
LOCATION:FEG Salem Sonnhaldeweg 2\,  Münsingen
SUMMARY:Alltags Deutschkurs zum Thema «Schweiz»
DESCRIPTION:\nhttps://www.colibritreff.ch/events/alltags-deutschkurs-zum-th
 ema-schweiz/
URL:https://www.colibritreff.ch/events/alltags-deutschkurs-zum-thema-schweiz/
END:VEVENT
END:VCALENDAR