BEGIN:VCALENDAR
VERSION:2.0
PRODID:-//eventon.com NONSGML v1.0//EN
CALSCALE:GREGORIAN
METHOD:PUBLISH
BEGIN:VEVENT
UID:69e4e6b7630f7
DTSTAMP:20260419T142911Z
DTSTART:20260331T140000Z
DTEND:20260331T160000Z
LOCATION:FEG Salem Sonnhaldeweg 2\,  Münsingen
SUMMARY:Workshop und Alltags Deutschkurs zum Thema «Feiertage und Ostern»
DESCRIPTION:\nhttps://www.colibritreff.ch/events/workshop-und-alltags-deuts
 chkurs-zum-thema-feiertage-und-ostern/
URL:https://www.colibritreff.ch/events/workshop-und-alltags-deutschkurs-zum-thema-feiertage-und-ostern/
END:VEVENT
END:VCALENDAR