BEGIN:VCALENDAR
VERSION:2.0
PRODID:-//eventon.com NONSGML v1.0//EN
CALSCALE:GREGORIAN
METHOD:PUBLISH
BEGIN:VEVENT
UID:69e4e519e4ad5
DTSTAMP:20260419T142217Z
DTSTART:20260317T140000Z
DTEND:20260317T160000Z
LOCATION:FEG Salem Sonnhaldeweg 2\,  Münsingen
SUMMARY:Workshop zum Thema «Wohlfühlen»
DESCRIPTION:\nhttps://www.colibritreff.ch/events/workshop-zum-thema-wohlfuh
 len/
URL:https://www.colibritreff.ch/events/workshop-zum-thema-wohlfuhlen/
END:VEVENT
END:VCALENDAR