BEGIN:VCALENDAR
VERSION:2.0
PRODID:-//eventon.com NONSGML v1.0//EN
CALSCALE:GREGORIAN
METHOD:PUBLISH
BEGIN:VEVENT
UID:69e4d016e2bd7
DTSTAMP:20260419T125238Z
DTSTART:20260327T080000Z
DTEND:20260327T090000Z
LOCATION:Begegnungs Café Schlossstrasse 5\,  3110 Münsingen
SUMMARY:Eltern-Kaffee im Begegnungscafe
DESCRIPTION:Organisiert durch den Elternrat. 9.00 Uhr bis 10.00 UhrTreffpun
 kt im Begegnungs-Café\,  Schlossstrasse 5\nhttps://www.colibritreff.ch/eve
 nts/eltern-kaffee-im-begegnungscafe-schlossstrasse-5/
URL:https://www.colibritreff.ch/events/eltern-kaffee-im-begegnungscafe-schlossstrasse-5/
END:VEVENT
END:VCALENDAR