BEGIN:VCALENDAR
VERSION:2.0
PRODID:-//eventon.com NONSGML v1.0//EN
CALSCALE:GREGORIAN
METHOD:PUBLISH
BEGIN:VEVENT
UID:69e9d80d2dd8c
DTSTAMP:20260423T082757Z
DTSTART:20260421T140000Z
DTEND:20260421T160000Z
LOCATION:FEG Salem Sonnhaldeweg 2\,  Münsingen
SUMMARY:«Back» Workshop
DESCRIPTION:\nhttps://www.colibritreff.ch/events/back-workshop/
URL:https://www.colibritreff.ch/events/back-workshop/
END:VEVENT
END:VCALENDAR