BEGIN:VCALENDAR
VERSION:2.0
PRODID:-//eventon.com NONSGML v1.0//EN
CALSCALE:GREGORIAN
METHOD:PUBLISH
BEGIN:VEVENT
UID:69e4e94c05fd0
DTSTAMP:20260419T144012Z
DTSTART:20260512T120000Z
DTEND:20260512T140000Z
LOCATION:FEG Salem Sonnhaldeweg 2\,  Münsingen
SUMMARY:Alltags Deutschkurs zum Thema «Sätze und Fragen bilden»
DESCRIPTION:\nhttps://www.colibritreff.ch/events/alltags-deutschkurs-zum-th
 ema-satze-und-fragen-bilden/
URL:https://www.colibritreff.ch/events/alltags-deutschkurs-zum-thema-satze-und-fragen-bilden/
END:VEVENT
END:VCALENDAR