BEGIN:VCALENDAR
VERSION:2.0
PRODID:-//eventon.com NONSGML v1.0//EN
CALSCALE:GREGORIAN
METHOD:PUBLISH
BEGIN:VEVENT
UID:69e4e94ac2e60
DTSTAMP:20260419T144010Z
DTSTART:20260602T120000Z
DTEND:20260602T140000Z
LOCATION:FEG Salem Sonnhaldeweg 2\,  Münsingen
SUMMARY:Alltags Deutschkurs zum Thema «s\,  sch\,  st\,  sp»
DESCRIPTION:\nhttps://www.colibritreff.ch/events/alltags-deutschkurs-zum-th
 ema-s-sch-st-sp/
URL:https://www.colibritreff.ch/events/alltags-deutschkurs-zum-thema-s-sch-st-sp/
END:VEVENT
END:VCALENDAR