BEGIN:VCALENDAR
VERSION:2.0
PRODID:-//eventon.com NONSGML v1.0//EN
CALSCALE:GREGORIAN
METHOD:PUBLISH
BEGIN:VEVENT
UID:69e9d7b5de4b2
DTSTAMP:20260423T082629Z
DTSTART:20260609T120000Z
DTEND:20260609T140000Z
LOCATION:FEG Salem Sonnhaldeweg 2\,  Münsingen
SUMMARY:Alltags Deutschkurs zum Thema «Begegnungen»
DESCRIPTION:\nhttps://www.colibritreff.ch/events/alltags-deutschkurs-zum-th
 ema-begegnungen/
URL:https://www.colibritreff.ch/events/alltags-deutschkurs-zum-thema-begegnungen/
END:VEVENT
END:VCALENDAR