BEGIN:VCALENDAR
VERSION:2.0
PRODID:-//eventon.com NONSGML v1.0//EN
CALSCALE:GREGORIAN
METHOD:PUBLISH
BEGIN:VEVENT
UID:69e4e93d036e8
DTSTAMP:20260419T143957Z
DTSTART:20260505T120000Z
DTEND:20260505T140000Z
LOCATION:FEG Salem Sonnhaldeweg 2\,  Münsingen
SUMMARY:Coop Gemeinde Duell – spazieren und sprechen Für alle offen (gratis)
DESCRIPTION:\nhttps://www.colibritreff.ch/events/coop-gemeinde-duell-spazie
 ren-und-sprechen-fur-alle-offen-gratis/
URL:https://www.colibritreff.ch/events/coop-gemeinde-duell-spazieren-und-sprechen-fur-alle-offen-gratis/
END:VEVENT
END:VCALENDAR