BEGIN:VCALENDAR
VERSION:2.0
PRODID:-//eventon.com NONSGML v1.0//EN
CALSCALE:GREGORIAN
METHOD:PUBLISH
BEGIN:VEVENT
UID:69e4e97db9f7d
DTSTAMP:20260419T144101Z
DTSTART:20260616T120000Z
DTEND:20260616T140000Z
LOCATION:FEG Salem Sonnhaldeweg 2\,  Münsingen
SUMMARY:Gast: Mütterberaterin zum Thema «Sonnenschutz bei Babys und Kleinkinder»
DESCRIPTION:\nhttps://www.colibritreff.ch/events/gast-mutterberaterin-zum-t
 hema-sonnenschutz-bei-babys-und-kleinkinder/
URL:https://www.colibritreff.ch/events/gast-mutterberaterin-zum-thema-sonnenschutz-bei-babys-und-kleinkinder/
END:VEVENT
END:VCALENDAR