BEGIN:VCALENDAR
VERSION:2.0
PRODID:-//eventon.com NONSGML v1.0//EN
CALSCALE:GREGORIAN
METHOD:PUBLISH
BEGIN:VEVENT
UID:69e4e971c1586
DTSTAMP:20260419T144049Z
DTSTART:20260623T120000Z
DTEND:20260623T140000Z
LOCATION:
SUMMARY:Ausflug: Freibad Münsingen
DESCRIPTION:(mehr Informationen folgen)\nhttps://www.colibritreff.ch/events
 /ausflug-freibad-munsingen/
URL:https://www.colibritreff.ch/events/ausflug-freibad-munsingen/
END:VEVENT
END:VCALENDAR