BEGIN:VCALENDAR
VERSION:2.0
PRODID:-//eventon.com NONSGML v1.0//EN
CALSCALE:GREGORIAN
METHOD:PUBLISH
BEGIN:VEVENT
UID:69e4e97dbb1c1
DTSTAMP:20260419T144101Z
DTSTART:20260630T120000Z
DTEND:20260630T140000Z
LOCATION:FEG Salem Sonnhaldeweg 2\,  Münsingen
SUMMARY:Sommerlicher Abschluss
DESCRIPTION:\nhttps://www.colibritreff.ch/events/sommerlicher-abschluss/
URL:https://www.colibritreff.ch/events/sommerlicher-abschluss/
END:VEVENT
END:VCALENDAR