BEGIN:VCALENDAR
VERSION:2.0
PRODID:-//eventon.com NONSGML v1.0//EN
CALSCALE:GREGORIAN
METHOD:PUBLISH
BEGIN:VEVENT
UID:69e4e971b51df
DTSTAMP:20260419T144049Z
DTSTART:20260425T060000Z
DTEND:20260425T100000Z
LOCATION:
SUMMARY:Pflanzenmärit
DESCRIPTION:\nhttps://www.colibritreff.ch/events/pflanzenmarit/
URL:https://www.colibritreff.ch/events/pflanzenmarit/
END:VEVENT
END:VCALENDAR